BEGIN:VCALENDAR
VERSION:2.0
PRODID:-//EmmYouth - ECPv6.15.1.1//NONSGML v1.0//EN
CALSCALE:GREGORIAN
METHOD:PUBLISH
X-ORIGINAL-URL:http://www.emmyouth.com
X-WR-CALDESC:Events for EmmYouth
REFRESH-INTERVAL;VALUE=DURATION:PT1H
X-Robots-Tag:noindex
X-PUBLISHED-TTL:PT1H
BEGIN:VTIMEZONE
TZID:America/Los_Angeles
BEGIN:DAYLIGHT
TZOFFSETFROM:-0800
TZOFFSETTO:-0700
TZNAME:PDT
DTSTART:20170312T100000
END:DAYLIGHT
BEGIN:STANDARD
TZOFFSETFROM:-0700
TZOFFSETTO:-0800
TZNAME:PST
DTSTART:20171105T090000
END:STANDARD
BEGIN:DAYLIGHT
TZOFFSETFROM:-0800
TZOFFSETTO:-0700
TZNAME:PDT
DTSTART:20180311T100000
END:DAYLIGHT
BEGIN:STANDARD
TZOFFSETFROM:-0700
TZOFFSETTO:-0800
TZNAME:PST
DTSTART:20181104T090000
END:STANDARD
BEGIN:DAYLIGHT
TZOFFSETFROM:-0800
TZOFFSETTO:-0700
TZNAME:PDT
DTSTART:20190310T100000
END:DAYLIGHT
BEGIN:STANDARD
TZOFFSETFROM:-0700
TZOFFSETTO:-0800
TZNAME:PST
DTSTART:20191103T090000
END:STANDARD
BEGIN:DAYLIGHT
TZOFFSETFROM:-0800
TZOFFSETTO:-0700
TZNAME:PDT
DTSTART:20200308T100000
END:DAYLIGHT
BEGIN:STANDARD
TZOFFSETFROM:-0700
TZOFFSETTO:-0800
TZNAME:PST
DTSTART:20201101T090000
END:STANDARD
BEGIN:DAYLIGHT
TZOFFSETFROM:-0800
TZOFFSETTO:-0700
TZNAME:PDT
DTSTART:20210314T100000
END:DAYLIGHT
BEGIN:STANDARD
TZOFFSETFROM:-0700
TZOFFSETTO:-0800
TZNAME:PST
DTSTART:20211107T090000
END:STANDARD
END:VTIMEZONE
BEGIN:VEVENT
DTSTART;TZID=America/Los_Angeles:20210126T190000
DTEND;TZID=America/Los_Angeles:20210126T210000
DTSTAMP:20260423T104827
CREATED:20201030T042653Z
LAST-MODIFIED:20201103T000648Z
UID:2851-1611687600-1611694800@www.emmyouth.com
SUMMARY:Youth: Dima's Group Prayer Service
DESCRIPTION:Andrey Preaching
URL:http://www.emmyouth.com/event/youth-dimas-group-prayer-service-5/
END:VEVENT
BEGIN:VEVENT
DTSTART;TZID=America/Los_Angeles:20210119T190000
DTEND;TZID=America/Los_Angeles:20210119T210000
DTSTAMP:20260423T104827
CREATED:20201026T011710Z
LAST-MODIFIED:20201103T000648Z
UID:2833-1611082800-1611090000@www.emmyouth.com
SUMMARY:Youth: Peter's Group Poetic Service
DESCRIPTION:Ilya Chapskiy Preaching
URL:http://www.emmyouth.com/event/youth-peters-group-poetic-service-4/
END:VEVENT
BEGIN:VEVENT
DTSTART;TZID=America/Los_Angeles:20210112T190000
DTEND;TZID=America/Los_Angeles:20210112T210000
DTSTAMP:20260423T104827
CREATED:20201026T011710Z
LAST-MODIFIED:20201103T000648Z
UID:2832-1610478000-1610485200@www.emmyouth.com
SUMMARY:Youth: Alex's Group Regular Service
DESCRIPTION:Peter Preaching
URL:http://www.emmyouth.com/event/youth-alexs-group-regular-service-4/
END:VEVENT
BEGIN:VEVENT
DTSTART;TZID=America/Los_Angeles:20210105T190000
DTEND;TZID=America/Los_Angeles:20210105T210000
DTSTAMP:20260423T104827
CREATED:20201026T011710Z
LAST-MODIFIED:20201103T000648Z
UID:2831-1609873200-1609880400@www.emmyouth.com
SUMMARY:Youth: Discussion/Groups Gather
DESCRIPTION:Kitchen: Peter’s Group\nAlex Preaching
URL:http://www.emmyouth.com/event/youth-discussion-groups-gather-4/
END:VEVENT
BEGIN:VEVENT
DTSTART;TZID=America/Los_Angeles:20201222T190000
DTEND;TZID=America/Los_Angeles:20201222T210000
DTSTAMP:20260423T104827
CREATED:20201026T011710Z
LAST-MODIFIED:20201103T000648Z
UID:2830-1608663600-1608670800@www.emmyouth.com
SUMMARY:Youth: Dima's Group Prayer Service
DESCRIPTION:Andrey Preaching
URL:http://www.emmyouth.com/event/youth-dimas-group-prayer-service-4/
END:VEVENT
BEGIN:VEVENT
DTSTART;TZID=America/Los_Angeles:20201215T190000
DTEND;TZID=America/Los_Angeles:20201215T210000
DTSTAMP:20260423T104827
CREATED:20201026T011710Z
LAST-MODIFIED:20201103T000648Z
UID:2829-1608058800-1608066000@www.emmyouth.com
SUMMARY:Youth: Peter's Group Poetic Service
DESCRIPTION:Ilya Chapskiy Preaching
URL:http://www.emmyouth.com/event/youth-peters-group-poetic-service-3/
END:VEVENT
BEGIN:VEVENT
DTSTART;TZID=America/Los_Angeles:20201208T190000
DTEND;TZID=America/Los_Angeles:20201208T210000
DTSTAMP:20260423T104827
CREATED:20201026T011710Z
LAST-MODIFIED:20201103T000647Z
UID:2828-1607454000-1607461200@www.emmyouth.com
SUMMARY:Youth: Alex's Group Regular Service
DESCRIPTION:Peter Preaching
URL:http://www.emmyouth.com/event/youth-alexs-group-regular-service-3/
END:VEVENT
BEGIN:VEVENT
DTSTART;TZID=America/Los_Angeles:20201201T190000
DTEND;TZID=America/Los_Angeles:20201201T210000
DTSTAMP:20260423T104827
CREATED:20201026T011710Z
LAST-MODIFIED:20201103T203313Z
UID:2827-1606849200-1606856400@www.emmyouth.com
SUMMARY:Youth: Discussion/Groups Gather
DESCRIPTION:Kitchen: Peter’s Group\nAlex Preaching
URL:http://www.emmyouth.com/event/youth-discussion-groups-gather-3/
END:VEVENT
BEGIN:VEVENT
DTSTART;TZID=America/Los_Angeles:20201124T190000
DTEND;TZID=America/Los_Angeles:20201124T210000
DTSTAMP:20260423T104827
CREATED:20201026T011710Z
LAST-MODIFIED:20201103T203313Z
UID:2826-1606244400-1606251600@www.emmyouth.com
SUMMARY:Youth: Dima's Group Prayer Service
DESCRIPTION:Andrey Preaching
URL:http://www.emmyouth.com/event/youth-dimas-group-prayer-service-3/
END:VEVENT
BEGIN:VEVENT
DTSTART;TZID=America/Los_Angeles:20201117T190000
DTEND;TZID=America/Los_Angeles:20201117T210000
DTSTAMP:20260423T104827
CREATED:20201026T011710Z
LAST-MODIFIED:20201103T203313Z
UID:2825-1605639600-1605646800@www.emmyouth.com
SUMMARY:Youth: Peter's Group Poetic Service
DESCRIPTION:Ilya Chapskiy Preaching
URL:http://www.emmyouth.com/event/youth-peters-group-poetic-service-2/
END:VEVENT
BEGIN:VEVENT
DTSTART;TZID=America/Los_Angeles:20201110T190000
DTEND;TZID=America/Los_Angeles:20201110T210000
DTSTAMP:20260423T104827
CREATED:20201026T011709Z
LAST-MODIFIED:20201103T203313Z
UID:2824-1605034800-1605042000@www.emmyouth.com
SUMMARY:Youth: Alex's Group Regular Service
DESCRIPTION:Peter Preaching
URL:http://www.emmyouth.com/event/youth-alexs-group-regular-service-2/
END:VEVENT
BEGIN:VEVENT
DTSTART;TZID=America/Los_Angeles:20201103T190000
DTEND;TZID=America/Los_Angeles:20201103T210000
DTSTAMP:20260423T104827
CREATED:20201026T011709Z
LAST-MODIFIED:20201103T203313Z
UID:2823-1604430000-1604437200@www.emmyouth.com
SUMMARY:Youth: Discussion/Groups Gather
DESCRIPTION:Kitchen: Peter’s Group\nAlex Preaching
URL:http://www.emmyouth.com/event/youth-discussion-groups-gather-2/
END:VEVENT
BEGIN:VEVENT
DTSTART;TZID=America/Los_Angeles:20201027T190000
DTEND;TZID=America/Los_Angeles:20201027T210000
DTSTAMP:20260423T104827
CREATED:20201026T011709Z
LAST-MODIFIED:20201026T071034Z
UID:2822-1603825200-1603832400@www.emmyouth.com
SUMMARY:Youth: Dima's Group Prayer Service
DESCRIPTION:Andrey Preaching
URL:http://www.emmyouth.com/event/youth-dimas-group-prayer-service-2/
END:VEVENT
BEGIN:VEVENT
DTSTART;VALUE=DATE:20191130
DTEND;VALUE=DATE:20191201
DTSTAMP:20260423T104827
CREATED:20191031T224953Z
LAST-MODIFIED:20191031T224953Z
UID:2812-1575072000-1575158399@www.emmyouth.com
SUMMARY:Everett youth conference  W/ choir
DESCRIPTION:
URL:http://www.emmyouth.com/event/everett-youth-conference-w-choir/
END:VEVENT
BEGIN:VEVENT
DTSTART;TZID=America/Los_Angeles:20191126T190000
DTEND;TZID=America/Los_Angeles:20191126T210000
DTSTAMP:20260423T104827
CREATED:20191031T224953Z
LAST-MODIFIED:20191031T224953Z
UID:2811-1574794800-1574802000@www.emmyouth.com
SUMMARY:Youth: Dima's Group Prayer Service
DESCRIPTION:Andrey Preaching
URL:http://www.emmyouth.com/event/youth-dimas-group-prayer-service/
END:VEVENT
BEGIN:VEVENT
DTSTART;TZID=America/Los_Angeles:20191119T190000
DTEND;TZID=America/Los_Angeles:20191119T210000
DTSTAMP:20260423T104827
CREATED:20191031T224953Z
LAST-MODIFIED:20191031T224953Z
UID:2810-1574190000-1574197200@www.emmyouth.com
SUMMARY:Youth: Peter's Group Poetic Service
DESCRIPTION:Ilya Chapskiy Preaching
URL:http://www.emmyouth.com/event/youth-peters-group-poetic-service/
END:VEVENT
BEGIN:VEVENT
DTSTART;VALUE=DATE:20191117
DTEND;VALUE=DATE:20191118
DTSTAMP:20260423T104827
CREATED:20191031T224953Z
LAST-MODIFIED:20191031T224953Z
UID:2809-1573948800-1574035199@www.emmyouth.com
SUMMARY:Rovinska Choir visit Fellowship.
DESCRIPTION:
URL:http://www.emmyouth.com/event/rovinska-choir-visit-fellowship/
END:VEVENT
BEGIN:VEVENT
DTSTART;TZID=America/Los_Angeles:20191112T190000
DTEND;TZID=America/Los_Angeles:20191112T210000
DTSTAMP:20260423T104827
CREATED:20191031T224953Z
LAST-MODIFIED:20191031T224953Z
UID:2808-1573585200-1573592400@www.emmyouth.com
SUMMARY:Youth: Alex's Group Regular Service
DESCRIPTION:Peter Preaching
URL:http://www.emmyouth.com/event/youth-alexs-group-regular-service/
END:VEVENT
BEGIN:VEVENT
DTSTART;TZID=America/Los_Angeles:20191110T160000
DTEND;TZID=America/Los_Angeles:20191110T170000
DTSTAMP:20260423T104827
CREATED:20191031T224953Z
LAST-MODIFIED:20191031T224953Z
UID:2807-1573401600-1573405200@www.emmyouth.com
SUMMARY:Членское
DESCRIPTION:
URL:http://www.emmyouth.com/event/%d1%87%d0%bb%d0%b5%d0%bd%d1%81%d0%ba%d0%be%d0%b5/
END:VEVENT
BEGIN:VEVENT
DTSTART;TZID=America/Los_Angeles:20191105T190000
DTEND;TZID=America/Los_Angeles:20191105T210000
DTSTAMP:20260423T104827
CREATED:20191031T224953Z
LAST-MODIFIED:20191031T224953Z
UID:2806-1572980400-1572987600@www.emmyouth.com
SUMMARY:Youth: Discussion/Groups Gather
DESCRIPTION:Kitchen: Peter’s Group\nAlex Preaching
URL:http://www.emmyouth.com/event/youth-discussion-groups-gather/
END:VEVENT
BEGIN:VEVENT
DTSTART;VALUE=DATE:20191103
DTEND;VALUE=DATE:20191104
DTSTAMP:20260423T104827
CREATED:20191031T224953Z
LAST-MODIFIED:20191031T224953Z
UID:2805-1572739200-1572825599@www.emmyouth.com
SUMMARY:Youth leads evening service Dima/Andrey lead
DESCRIPTION:
URL:http://www.emmyouth.com/event/youth-leads-evening-service-dima-andrey-lead/
END:VEVENT
BEGIN:VEVENT
DTSTART;TZID=America/Los_Angeles:20191101T160000
DTEND;TZID=America/Los_Angeles:20191101T170000
DTSTAMP:20260423T104827
CREATED:20191031T224953Z
LAST-MODIFIED:20191031T224953Z
UID:2804-1572624000-1572627600@www.emmyouth.com
SUMMARY:Test
DESCRIPTION:
URL:http://www.emmyouth.com/event/test/
END:VEVENT
BEGIN:VEVENT
DTSTART;VALUE=DATE:20170803
DTEND;VALUE=DATE:20170807
DTSTAMP:20260423T104827
CREATED:20170605T081047Z
LAST-MODIFIED:20170605T081047Z
UID:2772-1501718400-1502063999@www.emmyouth.com
SUMMARY:Youth Camp
DESCRIPTION:
URL:http://www.emmyouth.com/event/youth-camp/
END:VEVENT
BEGIN:VEVENT
DTSTART;TZID=America/Los_Angeles:20170725T190000
DTEND;TZID=America/Los_Angeles:20170725T210000
DTSTAMP:20260423T104827
CREATED:20170605T081006Z
LAST-MODIFIED:20170605T081006Z
UID:2770-1501009200-1501016400@www.emmyouth.com
SUMMARY:Youth Service: Prayer (Dima's Group)
DESCRIPTION:
URL:http://www.emmyouth.com/event/youth-service-prayer-dimas-group/
END:VEVENT
BEGIN:VEVENT
DTSTART;TZID=America/Los_Angeles:20170718T190000
DTEND;TZID=America/Los_Angeles:20170718T210000
DTSTAMP:20260423T104827
CREATED:20170605T080910Z
LAST-MODIFIED:20170605T081117Z
UID:2768-1500404400-1500411600@www.emmyouth.com
SUMMARY:Youth Service: Musical/Poetic (Peter's Group)
DESCRIPTION:
URL:http://www.emmyouth.com/event/youth-service-musicalpoetic-peters-2/
END:VEVENT
BEGIN:VEVENT
DTSTART;TZID=America/Los_Angeles:20170711T190000
DTEND;TZID=America/Los_Angeles:20170711T210000
DTSTAMP:20260423T104827
CREATED:20170605T080756Z
LAST-MODIFIED:20170605T080756Z
UID:2766-1499799600-1499806800@www.emmyouth.com
SUMMARY:Youth Service: Alex's Group Leads
DESCRIPTION:
URL:http://www.emmyouth.com/event/youth-service-alexs-group-leads-2/
END:VEVENT
BEGIN:VEVENT
DTSTART;VALUE=DATE:20170709
DTEND;VALUE=DATE:20170710
DTSTAMP:20260423T104827
CREATED:20170605T080630Z
LAST-MODIFIED:20170605T080630Z
UID:2764-1499558400-1499644799@www.emmyouth.com
SUMMARY:Late Fee Starts for Youth Camp
DESCRIPTION:
URL:http://www.emmyouth.com/event/late-fee-starts-for-youth-camp/
END:VEVENT
BEGIN:VEVENT
DTSTART;TZID=America/Los_Angeles:20170704T190000
DTEND;TZID=America/Los_Angeles:20170704T210000
DTSTAMP:20260423T104827
CREATED:20170605T080448Z
LAST-MODIFIED:20170605T080448Z
UID:2762-1499194800-1499202000@www.emmyouth.com
SUMMARY:Youth Service: Bible Study/Groups
DESCRIPTION:
URL:http://www.emmyouth.com/event/youth-service-bible-studygroups-2/
END:VEVENT
BEGIN:VEVENT
DTSTART;TZID=America/Los_Angeles:20170627T190000
DTEND;TZID=America/Los_Angeles:20170627T210000
DTSTAMP:20260423T104827
CREATED:20170605T080223Z
LAST-MODIFIED:20170605T081132Z
UID:2760-1498590000-1498597200@www.emmyouth.com
SUMMARY:Youth Service: Prayer (Dima's Group)
DESCRIPTION:
URL:http://www.emmyouth.com/event/youth-service-prayer-dimas/
END:VEVENT
BEGIN:VEVENT
DTSTART;TZID=America/Los_Angeles:20170620T190000
DTEND;TZID=America/Los_Angeles:20170620T210000
DTSTAMP:20260423T104827
CREATED:20170605T080007Z
LAST-MODIFIED:20170605T081144Z
UID:2758-1497985200-1497992400@www.emmyouth.com
SUMMARY:Youth Service: Musical/Poetic (Peter's Group)
DESCRIPTION:
URL:http://www.emmyouth.com/event/youth-service-musicalpoetic-peters/
END:VEVENT
END:VCALENDAR